BEGIN:VCALENDAR
VERSION:2.0
PRODID:-//Empresas Sostenibles - ECPv6.15.12.2//NONSGML v1.0//EN
CALSCALE:GREGORIAN
METHOD:PUBLISH
X-WR-CALNAME:Empresas Sostenibles
X-ORIGINAL-URL:https://www.empresassosteniblesrd.org
X-WR-CALDESC:Eventos para Empresas Sostenibles
REFRESH-INTERVAL;VALUE=DURATION:PT1H
X-Robots-Tag:noindex
X-PUBLISHED-TTL:PT1H
BEGIN:VTIMEZONE
TZID:America/Santo_Domingo
BEGIN:STANDARD
TZOFFSETFROM:-0400
TZOFFSETTO:-0400
TZNAME:AST
DTSTART:20240101T000000
END:STANDARD
END:VTIMEZONE
BEGIN:VEVENT
DTSTART;TZID=America/Santo_Domingo:20251203T103000
DTEND;TZID=America/Santo_Domingo:20251203T103000
DTSTAMP:20260425T211139
CREATED:20251203T012215Z
LAST-MODIFIED:20251203T012330Z
UID:5426-1764757800-1764757800@www.empresassosteniblesrd.org
SUMMARY:Acto de Reconocimiento y Presentación del Catálogo de Prácticas Prometedoras 5ta Edición
DESCRIPTION:Favor de confirmar asistencia vía\nconep@conep.org.do
URL:https://www.empresassosteniblesrd.org/evento/acto-de-reconocimiento-y-presentacion-del-catalogo-de-practicas-prometedoras-5ta-edicion/
LOCATION:Salón Embassy Garden\, Hotel El Embajador\, Distrito Nacional\, Santo Domingo\, Dominican Republic
ATTACH;FMTTYPE=image/jpeg:https://storage.googleapis.com/stateless-www-empresassostenib/2025/12/2181b546-evento-practicas-prometedoras.jpg
END:VEVENT
END:VCALENDAR