BEGIN:VCALENDAR
VERSION:2.0
PRODID:-//Empresas Sostenibles - ECPv6.15.12.2//NONSGML v1.0//EN
CALSCALE:GREGORIAN
METHOD:PUBLISH
X-ORIGINAL-URL:https://www.empresassosteniblesrd.org
X-WR-CALDESC:Eventos para Empresas Sostenibles
REFRESH-INTERVAL;VALUE=DURATION:PT1H
X-Robots-Tag:noindex
X-PUBLISHED-TTL:PT1H
BEGIN:VTIMEZONE
TZID:America/Santo_Domingo
BEGIN:STANDARD
TZOFFSETFROM:-0400
TZOFFSETTO:-0400
TZNAME:AST
DTSTART:20210101T000000
END:STANDARD
END:VTIMEZONE
BEGIN:VEVENT
DTSTART;TZID=America/Santo_Domingo:20220307T000000
DTEND;TZID=America/Santo_Domingo:20230307T235900
DTSTAMP:20260420T020855
CREATED:20220308T013543Z
LAST-MODIFIED:20220511T195829Z
UID:1565-1646611200-1678233540@www.empresassosteniblesrd.org
SUMMARY:Curso Medición y Gestión del Impacto para los ODS
DESCRIPTION:¿Cómo pueden las empresas e inversionistas ayudar a acelerar el desarrollo sostenible?\n\nA través de este curso\, cualquier persona puede aprender a mejorar la práctica de medición y gestión del impacto de su organización y alinear sus actividades e informes ESG o de impacto con estándares globales emergentes. El curso se diseñó en torno a los elementos fundamentales de los Estándares de impacto de los ODS\, los únicos estándares de gestión que integran la sostenibilidad en el núcleo de una organización de la manera holística prevista en la Agenda 2030.\n\nEsta oporunitdad es resultado de la colaboración de los equipos de SDG Impact del PNUD y el equipo CASE de la Universidad de Duke.
URL:https://www.empresassosteniblesrd.org/evento/curso-medicion-y-gestion-del-impacto-para-los-ods/
LOCATION:Santo Domingo
ATTACH;FMTTYPE=image/jpeg:https://storage.googleapis.com/stateless-www-empresassostenib/2022/03/bbcddeba-event_image1.jpg
END:VEVENT
BEGIN:VEVENT
DTSTART;TZID=America/Santo_Domingo:20220805T080000
DTEND;TZID=America/Santo_Domingo:20221231T170000
DTSTAMP:20260420T020855
CREATED:20220719T190541Z
LAST-MODIFIED:20220719T190541Z
UID:1645-1659686400-1672506000@www.empresassosteniblesrd.org
SUMMARY:Programa de Alta Dirección en Sostenibilidad
DESCRIPTION:Este programa pretende desarrollar en los participantes las capacidades necesarias para apoyar a su empresa en la transición hacia un modelo de negocio responsable. Además\, conocerá técnicas\, procesos y tecnologías que le permitirán incrementar ventas\, reducir costos y mitigar riesgos\, y tendrá la oportunidad de reflexionar con otros directivos sobre los retos que enfrenta su sector para prosperar en un mercado cada día más comprometido con la sostenibilidad.
URL:https://www.empresassosteniblesrd.org/evento/programa-de-alta-direccion-en-sostenibilidad/
LOCATION:Santo Domingo
ATTACH;FMTTYPE=image/jpeg:https://storage.googleapis.com/stateless-www-empresassostenib/2022/07/2b528e32-banner_pads_conep_1080x1080.jpg
END:VEVENT
BEGIN:VEVENT
DTSTART;TZID=America/Santo_Domingo:20230707T160000
DTEND;TZID=America/Santo_Domingo:20230707T200000
DTSTAMP:20260420T020855
CREATED:20230707T155059Z
LAST-MODIFIED:20230707T155548Z
UID:2685-1688745600-1688760000@www.empresassosteniblesrd.org
SUMMARY:Inducción a la Sostenibilidad (orientado a industrias)
DESCRIPTION:Te invitamos a adentrarte al mundo de la sostenibilidad en este workshop auspiciado por la Asociación de Industrias de la República Dominicana (AIRD) y el Instituto Dominicano de Excelencia y Competitividad Empresarial (IDECEM)\, de la mano de Arlette Palacio\, CEO de SIP Group. Esta formación comprende varios módulos para una inducción completa: \n\n\nQué es la sostenibilidad\nSostenibilidad en empresas del sector industrial\nSostenibilidad como instrumento de planificación\nInnovando para la Sostenibilidad\n\n      Inversión:\n      Socios AIRD US$275.00\n      Admisión general US$325.00\n\n\nIncluye certificado de participación avalado por el CSE. Cupo limitado. Enlace de inscripción: https://forms.gle/UiLmLzaNdJxCbrwU6\n\n\n\n      Para más información: 809- 472-000 ext. 221 y 234 / correo: idecem@aird.org.do
URL:https://www.empresassosteniblesrd.org/evento/induccion-a-la-sostenibilidad-orientado-a-industrias/
LOCATION:Santo Domingo
ATTACH;FMTTYPE=image/jpeg:https://storage.googleapis.com/stateless-www-empresassostenib/2023/07/c7156715-arte-taller.jpeg
END:VEVENT
BEGIN:VEVENT
DTSTART;TZID=America/Santo_Domingo:20251203T103000
DTEND;TZID=America/Santo_Domingo:20251203T103000
DTSTAMP:20260420T020855
CREATED:20251203T012215Z
LAST-MODIFIED:20251203T012330Z
UID:5426-1764757800-1764757800@www.empresassosteniblesrd.org
SUMMARY:Acto de Reconocimiento y Presentación del Catálogo de Prácticas Prometedoras 5ta Edición
DESCRIPTION:Favor de confirmar asistencia vía\nconep@conep.org.do
URL:https://www.empresassosteniblesrd.org/evento/acto-de-reconocimiento-y-presentacion-del-catalogo-de-practicas-prometedoras-5ta-edicion/
LOCATION:Salón Embassy Garden\, Hotel El Embajador\, Distrito Nacional\, Santo Domingo\, Dominican Republic
ATTACH;FMTTYPE=image/jpeg:https://storage.googleapis.com/stateless-www-empresassostenib/2025/12/2181b546-evento-practicas-prometedoras.jpg
END:VEVENT
END:VCALENDAR